BEGIN:VCALENDAR
VERSION:2.0
PRODID:-//wp-events-plugin.com//7.2.3.1//EN
BEGIN:VEVENT
UID:296@scdugrandvaux.fr
DTSTART;VALUE=DATE:20250122
DTEND;VALUE=DATE:20250123
DTSTAMP:20241209T175907Z
URL:https://www.scdugrandvaux.fr/evenements/transju-jeune/
SUMMARY:Transju jeunes
DESCRIPTION:
ATTACH;FMTTYPE=image/jpeg:https://www.scdugrandvaux.fr/wp-content/uploads/
 2023/12/IMG-20231129-WA0037.jpg
CATEGORIES:Courses
END:VEVENT
END:VCALENDAR