BEGIN:VCALENDAR
VERSION:2.0
PRODID:-//wp-events-plugin.com//7.2.3.1//EN
BEGIN:VEVENT
UID:306@scdugrandvaux.fr
DTSTART:20250214T230000Z
DTEND:20250214T230000Z
DTSTAMP:20250212T190310Z
URL:https://www.scdugrandvaux.fr/evenements/tournoi-de-vitesse-2/
SUMMARY:Tournoi de vitesse
DESCRIPTION:U7 a U13
ATTACH;FMTTYPE=image/jpeg:https://www.scdugrandvaux.fr/wp-content/uploads/
 2021/12/IMG-20211228-WA0016.jpg
CATEGORIES:Courses
END:VEVENT
END:VCALENDAR