BEGIN:VCALENDAR
VERSION:2.0
PRODID:-//wp-events-plugin.com//7.2.3.1//EN
BEGIN:VEVENT
UID:316@scdugrandvaux.fr
DTSTART:20251212T230000Z
DTEND:20251213T203000Z
DTSTAMP:20251210T171225Z
URL:https://www.scdugrandvaux.fr/evenements/prjs-u7-a-u13/
SUMMARY:PRJS U7 a U13 - SMBM
DESCRIPTION:
CATEGORIES:Courses
END:VEVENT
END:VCALENDAR