BEGIN:VCALENDAR
VERSION:2.0
PRODID:-//wp-events-plugin.com//7.2.3.1//EN
BEGIN:VEVENT
UID:308@scdugrandvaux.fr
DTSTART;VALUE=DATE:20250223
DTEND;VALUE=DATE:20250224
DTSTAMP:20250216T185129Z
URL:https://www.scdugrandvaux.fr/evenements/les-jeunes-spatules-2/
SUMMARY:Les jeunes spatules
DESCRIPTION:U7a U13
CATEGORIES:Courses
END:VEVENT
END:VCALENDAR