BEGIN:VCALENDAR
VERSION:2.0
PRODID:-//wp-events-plugin.com//7.2.3.1//EN
BEGIN:VEVENT
UID:322@scdugrandvaux.fr
DTSTART:20260117T230000Z
DTEND:20260117T230000Z
DTSTAMP:20260115T170644Z
URL:https://www.scdugrandvaux.fr/evenements/la-classicmeuthiarde/
SUMMARY:La Classic'meuthiarde
DESCRIPTION:U15 a SEN
CATEGORIES:Courses
END:VEVENT
END:VCALENDAR