BEGIN:VCALENDAR
VERSION:2.0
PRODID:-//wp-events-plugin.com//7.2.3.1//EN
BEGIN:VEVENT
UID:290@scdugrandvaux.fr
DTSTART;VALUE=DATE:20240224
DTEND;VALUE=DATE:20240225
DTSTAMP:20240220T203348Z
URL:https://www.scdugrandvaux.fr/evenements/finale-course-regionale-biathl
 on/
SUMMARY:Finale course régionale biathlon
DESCRIPTION:
CATEGORIES:Courses
END:VEVENT
END:VCALENDAR