BEGIN:VCALENDAR
VERSION:2.0
PRODID:-//wp-events-plugin.com//7.2.3.1//EN
BEGIN:VEVENT
UID:328@scdugrandvaux.fr
DTSTART:20260314T230000Z
DTEND:20260315T150000Z
DTSTAMP:20260310T050613Z
URL:https://www.scdugrandvaux.fr/evenements/fete-du-ski-haut-jura-lemane/
SUMMARY:Fête du ski haut jura leman
DESCRIPTION:U7 a u15
CATEGORIES:Courses
END:VEVENT
END:VCALENDAR