BEGIN:VCALENDAR
VERSION:2.0
PRODID:-//wp-events-plugin.com//7.2.3.1//EN
BEGIN:VEVENT
UID:321@scdugrandvaux.fr
DTSTART:20260110T230000Z
DTEND:20260110T230000Z
DTSTAMP:20260108T173132Z
URL:https://www.scdugrandvaux.fr/evenements/course-du-week-end/
SUMMARY:Course du week-end !!!!
DESCRIPTION:
CATEGORIES:Courses
END:VEVENT
END:VCALENDAR