BEGIN:VCALENDAR
VERSION:2.0
PRODID:-//wp-events-plugin.com//7.2.3.1//EN
BEGIN:VEVENT
UID:289@scdugrandvaux.fr
DTSTART;VALUE=DATE:20240210
DTEND;VALUE=DATE:20240211
DTSTAMP:20240207T045956Z
URL:https://www.scdugrandvaux.fr/evenements/concours-chaux-neuve/
SUMMARY:Concours Chaux Neuve
DESCRIPTION:U7 a Sen
CATEGORIES:Courses
END:VEVENT
END:VCALENDAR