BEGIN:VCALENDAR
VERSION:2.0
PRODID:-//wp-events-plugin.com//7.2.3.1//EN
BEGIN:VEVENT
UID:286@scdugrandvaux.fr
DTSTART;VALUE=DATE:20240203
DTEND;VALUE=DATE:20240204
DTSTAMP:20240122T192940Z
URL:https://www.scdugrandvaux.fr/evenements/challenge-national-u15/
SUMMARY:Challenge National U15
DESCRIPTION:Sprint Libre
CATEGORIES:Courses
END:VEVENT
END:VCALENDAR