BEGIN:VCALENDAR
VERSION:2.0
PRODID:-//wp-events-plugin.com//7.2.3.1//EN
BEGIN:VEVENT
UID:305@scdugrandvaux.fr
DTSTART;VALUE=DATE:20250125
DTEND;VALUE=DATE:20250126
DTSTAMP:20250120T175343Z
URL:https://www.scdugrandvaux.fr/evenements/challenge-grospiron/
SUMMARY:Challenge Grospiron
DESCRIPTION:U9 a Sen
ATTACH;FMTTYPE=image/jpeg:https://www.scdugrandvaux.fr/wp-content/uploads/
 2023/01/IMG-20221220-WA0021.jpg
CATEGORIES:Courses
END:VEVENT
END:VCALENDAR