BEGIN:VCALENDAR
VERSION:2.0
PRODID:-//wp-events-plugin.com//7.2.3.1//EN
BEGIN:VEVENT
UID:309@scdugrandvaux.fr
DTSTART;VALUE=DATE:20250222
DTEND;VALUE=DATE:20250223
DTSTAMP:20250216T185443Z
URL:https://www.scdugrandvaux.fr/evenements/biathlon-regional-u15/
SUMMARY:Biathlon régional U15
DESCRIPTION:
CATEGORIES:Courses
END:VEVENT
END:VCALENDAR