BEGIN:VCALENDAR
VERSION:2.0
PRODID:-//wp-events-plugin.com//7.2.3.1//EN
BEGIN:VEVENT
UID:329@scdugrandvaux.fr
DTSTART:20260313T230000Z
DTEND:20260314T150000Z
DTSTAMP:20260310T050727Z
URL:https://www.scdugrandvaux.fr/evenements/biathlon-regional-u11-u13/
SUMMARY:biathlon régional U11 U13
DESCRIPTION:U11 a u13
CATEGORIES:Courses
END:VEVENT
END:VCALENDAR